BEGIN:VCALENDAR
VERSION:2.0
PRODID:-//Pasadena Partnership - ECPv6.15.20//NONSGML v1.0//EN
CALSCALE:GREGORIAN
METHOD:PUBLISH
X-ORIGINAL-URL:https://pasadenapartnership.org
X-WR-CALDESC:Events for Pasadena Partnership
REFRESH-INTERVAL;VALUE=DURATION:PT1H
X-Robots-Tag:noindex
X-PUBLISHED-TTL:PT1H
BEGIN:VTIMEZONE
TZID:America/Los_Angeles
BEGIN:DAYLIGHT
TZOFFSETFROM:-0800
TZOFFSETTO:-0700
TZNAME:PDT
DTSTART:20150308T100000
END:DAYLIGHT
BEGIN:STANDARD
TZOFFSETFROM:-0700
TZOFFSETTO:-0800
TZNAME:PST
DTSTART:20151101T090000
END:STANDARD
BEGIN:DAYLIGHT
TZOFFSETFROM:-0800
TZOFFSETTO:-0700
TZNAME:PDT
DTSTART:20160313T100000
END:DAYLIGHT
BEGIN:STANDARD
TZOFFSETFROM:-0700
TZOFFSETTO:-0800
TZNAME:PST
DTSTART:20161106T090000
END:STANDARD
BEGIN:DAYLIGHT
TZOFFSETFROM:-0800
TZOFFSETTO:-0700
TZNAME:PDT
DTSTART:20170312T100000
END:DAYLIGHT
BEGIN:STANDARD
TZOFFSETFROM:-0700
TZOFFSETTO:-0800
TZNAME:PST
DTSTART:20171105T090000
END:STANDARD
END:VTIMEZONE
BEGIN:VEVENT
DTSTART;TZID=America/Los_Angeles:20161020T093000
DTEND;TZID=America/Los_Angeles:20161020T110000
DTSTAMP:20260424T071549
CREATED:20161004T161826Z
LAST-MODIFIED:20161004T161826Z
UID:1596-1476955800-1476961200@pasadenapartnership.org
SUMMARY:HMIS Training
DESCRIPTION:The City of Pasadena Housing Department will be hosting an HMIS training to review: \n\nOur updated HMIS Organizational Agreement\nClient Consent Forms\nThe required Privacy Notice posting & associated Privacy Policy\n\nAll HMIS users are required to attend the workshop which will be located in the Fair Oaks Community Room (Suite 203) at 649 N. Fair Oaks Ave.
URL:https://pasadenapartnership.org/event/hmis-training/
LOCATION:Fair Oaks Renaissance Plaza Community Room (#203)\, 649 N. Fair Oaks Ave\, Pasadena\, CA\, 91103\, United States
CATEGORIES:HMIS
END:VEVENT
END:VCALENDAR